BEGIN:VCALENDAR
VERSION:2.0
PRODID:-//Tukios.com/
BEGIN:VEVENT
UID:3a80c3ec-e134-462e-8c3b-c34b6b1ed440@www.brookingssmith.com
DTSTAMP:20260420T233738Z
DTSTART:20260426T170000Z
DTEND:20260426T180000Z
SUMMARY:Graveside Service
DESCRIPTION:
URL:https://www.brookingssmith.com/obituaries/robert-shappy
LOCATION:Oak Hill Cemetery Lebanon Road  Winterport ME 04496
GEO:44.659001;-68.8875037
END:VEVENT
END:VCALENDAR