BEGIN:VCALENDAR
VERSION:2.0
PRODID:-//Tukios.com/
BEGIN:VEVENT
UID:67250219-fc6a-4ce0-9f49-25d2a5132d6c@www.brookingssmith.com
DTSTAMP:20260424T001241Z
DTSTART:20260502T180000Z
DTEND:20260502T200000Z
SUMMARY:Celebration of Life
DESCRIPTION:
URL:https://www.brookingssmith.com/obituaries/renee-fournier
LOCATION: 163 Center Street  Bangor ME 04401
GEO:44.8092348;-68.7716826
END:VEVENT
END:VCALENDAR