BEGIN:VCALENDAR
VERSION:2.0
PRODID:-//Tukios.com/
BEGIN:VEVENT
UID:58d62609-76fc-4370-a282-d47e30b57e1f@www.brookingssmith.com
DTSTAMP:20260424T001015Z
DTSTART:20260502T170000Z
DTEND:20260502T180000Z
SUMMARY:Memorial Service
DESCRIPTION:
URL:https://www.brookingssmith.com/obituaries/renee-fournier
LOCATION:Brookings-Smith 133 Center Street  Bangor ME 04401
GEO:44.8081802;-68.7712774
END:VEVENT
END:VCALENDAR