BEGIN:VCALENDAR
VERSION:2.0
PRODID:-//Tukios.com/
BEGIN:VEVENT
UID:ba1ba327-66cb-4a68-88b6-15fddf8a6c68@www.brookingssmith.com
DTSTAMP:20260424T222627Z
DTSTART:20260624T170000Z
DTEND:20260624T180000Z
SUMMARY:Irving A. Priest Jr.
DESCRIPTION:
URL:https://www.brookingssmith.com/obituaries/irving-priest
LOCATION:    Sangerville ME 
GEO:45.1645956;-69.357317
END:VEVENT
END:VCALENDAR